{"text_format":"1","workbook":"xlsx","n_sheets":8,"sheets":["Stump Analysis Data","Seedling Data","Taper Data","Height-Age","Output 3","DUB-DBH(OB)","DBH(OB)-Age","Final Graph"],"not_rendered":{"charts":18,"images":0,"macros":1,"external_links":0,"defined_names":3,"comments":1,"pivot_tables":0},"unopened":[],"bounds":{"document_bytes":16777216,"sheet_cells":100000,"rows_first":2000,"rows_last":500,"rows_between":2000,"halvings":0,"cell_chars":16384,"cell_head_chars":4096},"cells_cut":0,"cells_raw":0,"read":"whole","date_system":"1900"}

{"sheet":"Stump Analysis Data","index":0,"n_rows":20,"n_cols":25,"rows_kept":20,"cut":false,"hidden":false,"merged":[[1,9,1,14],[0,0,2,7],[0,9,0,14],[7,1,8,1],[2,18,2,20],[3,13,3,14],[7,3,8,3],[7,4,8,4],[7,2,8,2],[7,5,7,24]]}
["Instructions:\n1. First reset the sheet using the button Reset Sheet\n2. Enter the number of groups in the cell highlighted below\n3. Prepare the sheet by using the button Prepare Sheet\n4. Enter the data and move on to the next sheet Seedling Data\n\n*Please enter values only in cells that are highlighted in GREY",null,null,null,null,null,null,null,null,"Data of Stump Analysis"]
[null,null,null,null,null,null,null,null,null,"Diameter at successive Decades",null,null,null,null,null,null,null,null,"Species:-","Shorea Robusta"]
[]
[]
[]
[null,"No of groups in the class",null,null,11]
[]
[null,"Row Status","Group No.","Stump Height (cm)","G(ob) Stumps","Average diameter of decades in cms"]
[null,null,null,null,null,"1\n(10 yrs)","2\n(20 yrs)","3\n(30 yrs)","4\n(40 yrs)","5\n(50 yrs)","6\n(60 yrs)","7\n(70 yrs)","8\n(80 yrs)","9\n(90 yrs)","10\n(100 yrs)","11\n(110 yrs)","12\n(120 yrs)","13\n(130 yrs)","14\n(140 yrs)","15\n(150 yrs)","16\n(160 yrs)","17\n(170 yrs)","18\n(180 yrs)","19\n(190 yrs)","20\n(200 yrs)"]
[null,"Active",1]
[null,"Active",2]
[null,"Active",3]
[null,"Active",4]
[null,"Active",5]
[null,"Active",6]
[null,"Active",7]
[null,"Active",8]
[null,"Active",9]
[null,"Active",10]
[null,"Active",11]

{"sheet":"Seedling Data","index":1,"n_rows":24,"n_cols":31,"rows_kept":24,"cut":false,"hidden":false,"merged":[[0,0,2,9],[12,29,12,30],[11,1,13,1],[11,2,13,2],[11,3,11,30],[12,3,12,4],[12,5,12,6],[12,7,12,8],[12,9,12,10],[12,11,12,12],[12,13,12,14],[12,15,12,16],[12,17,12,18],[12,19,12,20],[12,21,12,22],[12,25,12,26],[12,23,12,24],[12,27,12,28],[23,1,23,2],[22,1,22,2]]}
["Instructions:\n1. First reset the sheet using the button Reset Sheet\n2. Prepare the sheet by using the button Prepare Sheet\n3. Enter the data and move on to the next sheet Taper Data\n\n*Please enter values only in cells that are highlighted in GREY"]
[null,null,null,null,null,null,null,null,null,null,null,null,null,null,"Stump analysis - Seedling Data"]
[null,null,null,null,null,null,null,null,null,null,null,null,null,null,null,null,null,null,null,null,null,null,null,null,null,null,null,"Species:",{"$f":"'Stump Analysis Data'!T2","v":"Shorea Robusta"}]
[]
[]
[]
[]
[null,"No of groups in the class",null,null,{"$f":"'Stump Analysis Data'!E6","v":11}]
[]
[]
[]
[null,"Row Status","Group no.","Age at successive heights from ground level"]
[null,null,null,"Ground level",null,"10 cm",null,"20 cm",null,"30 cm",null,"40 cm",null,"50 cm",null,"60 cm",null,"70 cm",null,"80 cm",null,"100 cm",null,"120 cm",null,"140 cm",null,"160 cm",null,"180 cm"]
[null,null,null,"Rings","Age","Rings","Age","Rings","Age","Rings","Age","Rings","Age","Rings","Age","Rings","Age","Rings","Age","Rings","Age","Rings","Age","Rings","Age","Rings","Age","Rings","Age","Rings","Age"]
[null,"Active",1,25,0,25,{"$f":"D15-F15+E15","v":0},24,{"$f":"F15-H15+G15","v":1},23,{"$f":"H15-J15+I15","v":2},23,{"$f":"J15-L15+K15","v":2},22,{"$f":"L15-N15+M15","v":3},22,{"$f":"N15-P15+O15","v":3},21,{"$f":"P15-R15+Q15","v":4},20,{"$f":"R15-T15+S15","v":5},19,{"$f":"T15-V15+U15","v":6},18,{"$f":"V15-X15+W15","v":7},17,{"$f":"X15-Z15+Y15","v":8},16,{"$f":"Z15-AB15+AA15","v":9},14,{"$f":"AB15-AD15+AC15","v":11}]
[null,"Active",{"$f":"C15+1","v":2},24,0,22,2,21,3,20,4,19,5,18,6,18,6,17,7,16,8,14,10,13,11,12,12,12,12,12,12]
[null,"Active",3,22,0,20,2,19,3,17,5,17,5,16,6,15,7,14,8,14,8,13,9,13,9,12,10,12,10,11,11]
[null,"Active",4,25,0,24,1,23,2,22,3,22,3,21,4,20,5,19,6,19,6,18,7,18,7,18,7,17,8,16,9]
[null,"Active",5,30,0,29,1,28,2,28,2,27,3,27,3,26,4,26,4,24,6,23,7,21,9,19,11,17,13,15,15]
[null,"Active",6,23,0,22,1,21,2,20,3,18,5,18,5,16,7,14,9,14,9,13,10,12,11,11,12,11,12,10,13]
[null,"Active",7,27,0,26,1,24,3,23,4,23,4,22,5,22,5,21,6,20,7,20,7,17,10,16,11,15,12,13,14]
[null,"Active",8,21,0,20,1,19,2,19,2,18,3,18,3,18,3,18,3,17,4,16,5,15,6,14,7,13,8,12,9]
[null,"Total",null,{"$f":"SUM(D15:D22)","v":197},0,188,9,179,18,172,25,167,30,162,35,157,40,150,47,144,53,136,61,127,70,119,78,113,84,103,94]
[null,"Average",null,{"$f":"SUBTOTAL(1, D15:D22)","v":24.625},0,23.5,1.125,22.375,2.25,21.5,3.125,20.875,3.75,20.25,4.375,19.625,5,18.75,5.875,18,6.625,17,7.625,15.875,8.75,14.875,9.75,14.125,10.5,12.875,11.75]

{"sheet":"Taper Data","index":2,"n_rows":23,"n_cols":49,"rows_kept":23,"cut":false,"hidden":false,"merged":[[8,25,8,28],[8,33,8,36],[8,37,8,40],[8,41,8,44],[11,10,12,10],[11,11,12,11],[8,29,8,32],[11,42,12,42],[11,29,12,29],[11,30,12,30],[11,31,12,31],[11,33,12,33],[11,34,12,34],[11,22,12,22],[11,23,12,23],[9,20,12,20],[11,21,12,21],[6,0,6,3],[8,5,8,8],[8,1,8,4],[11,45,12,45],[8,45,8,48],[9,25,10,27],[9,28,12,28],[9,29,10,31],[9,32,12,32],[9,33,10,35],[9,48,12,48],[11,25,12,25],[11,26,12,26],[11,27,12,27],[11,3,12,3],[11,46,12,46],[11,47,12,47],[11,35,12,35],[11,37,12,37],[11,38,12,38],[11,39,12,39],[11,41,12,41],[11,43,12,43],[9,36,12,36],[9,37,10,39],[9,40,12,40],[9,41,10,43],[9,44,12,44],[9,45,10,47],[9,9,10,11],[11,9,12,9],[9,8,12,8],[8,0,12,0],[9,4,12,4],[11,5,12,5],[11,6,12,6],[9,5,10,7],[9,1,10,3],[11,1,12,1],[11,2,12,2],[11,7,12,7],[8,9,8,12],[9,12,12,12],[0,0,2,9],[8,21,8,24],[4,14,4,15],[11,18,12,18],[9,13,10,15],[11,19,12,19],[8,13,8,16],[8,17,8,20],[9,17,10,19],[9,21,10,23],[9,24,12,24],[11,13,12,13],[11,14,12,14],[11,15,12,15],[9,16,12,16],[11,17,12,17]]}
["Instructions:\n1. First reset the sheet using the button Reset Sheet\n2. Prepare the sheet by using the button Prepare Sheet\n3. Enter the data and press the button Process all data, generate graphs & export to PDF\n\n*Please enter values only in cells that are highlighted in GREY"]
[null,null,null,null,null,null,null,null,null,null,null,null,null,null,null,"Stump Analysis - Taper Data"]
[]
[]
["Species:",null,{"$f":"'Stump Analysis Data'!T2","v":"Shorea Robusta"}]
[]
["No of groups in the class",null,null,null,{"$f":"'Stump Analysis Data'!E6","v":11}]
[]
["Group No.","D.b.h. Class 10-20",null,null,null,"D.b.h. class 20-30",null,null,null,"D.b.h. Class 30-40",null,null,null,"D.b.h. Class 40-50",null,null,null,"D.b.h Class 50-60",null,null,null,"D.b.h. Class 60-70",null,null,null,"D.b.h. Class 70-80",null,null,null,"D.b.h. class 80-90",null,null,null,"D.b.h. Class 90-100",null,null,null,"D.b.h. Class 100-110",null,null,null,"D.b.h Class 110-120",null,null,null,"D.b.h. Class 120-130"]
[null,"Dia. ub",null,null,"D.b.h. o.b.","Dia. Ub",null,null,"D.b.h. o.b.",null,null,null,"D.b.h. o.b.","Dia. ub",null,null,"D.b.h. o.b.",null,null,null,"D.b.h. o.b.","Dia. ub",null,null,"D.b.h. o.b.","Dia. ub",null,null,"D.b.h. o.b.","Dia. Ub",null,null,"D.b.h. o.b.","Dia. Ub",null,null,"D.b.h. o.b.","Dia. ub",null,null,"D.b.h. o.b.","Dia. Ub",null,null,"D.b.h. o.b.","Dia. ub",null,null,"D.b.h. o.b."]
[]
[null,"At 15 cm","At 45 cm","At 75 cm",null,"At 15 cm","At 45 cm","At 75 cm",null,"At 15 cm","At 45 cm","At 75 cm",null,"At 15 cm","At 45 cm","At 75 cm",null,"At 15 cm","At 45 cm","At 75 cm",null,"At 15 cm","At 45 cm","At 75 cm",null,"At        cm","At        cm","At       cm",null,"At        cm","At       cm","At        cm",null,"At        cm","At        cm","At       cm",null,"At         cm","At        cm","At        cm",null,"At          cm","At         cm","At        cm",null,"At         cm","At        cm","At        cm"]
[]
[1,20.100000000000001,18.8,18.3,17.5,29.5,28,26.6,26.8,45.7,41.1,38.4,38.6]
[{"$f":"A14+1","v":2},12.3,11.3,11,11.8,21.9,20.9,20.5,20.2,41.6,37.299999999999997,36.6,37.1]
[3,13.1,12,11.6,10.45,34.6,30.5,29.35,29.8,50.25,45.2,42.4,39.5]
[4,null,null,null,null,null,null,null,null,null,null,null,null,49.7,44.8,43,42.4,65.2,59.6,54.4,53.3,80.5,73.599999999999994,68.099999999999994,62.7]
[5,null,null,null,null,null,null,null,null,null,null,null,null,49,44.8,42.6,46.5,54,53.2,52.5,52,68.900000000000006,67.900000000000006,65.2,63]
[6,null,null,null,null,null,null,null,null,null,null,null,null,53.25,48.95,46.5,48,57.3,54.3,52.5,51.9,83,77.599999999999994,70.3,67.7]
[7,null,null,null,null,null,null,null,null,null,null,null,null,null,null,null,null,null,null,null,null,null,null,null,null,86,81,76.5,75,80,78,77.5,81.5,95,90,89.4,92.5]
[8,null,null,null,null,null,null,null,null,null,null,null,null,null,null,null,null,null,null,null,null,null,null,null,null,83.1,70.7,67.7,72,91.5,85.3,82.1,86.1,105.7,90,86.2,90.5]
["Total",{"$f":"SUM(B14:B21)","v":45.500000000000007},42.1,40.9,39.75,86,79.400000000000006,76.45,76.8,137.55000000000001,123.60000000000001,117.4,115.2,151.94999999999999,138.55000000000001,132.1,136.9,176.5,167.10000000000002,159.4,157.19999999999999,232.4,219.1,203.60000000000002,193.4,169.1,151.69999999999999,144.19999999999999,147,171.5,163.30000000000001,159.6,167.6,200.7,180,175.60000000000002,183,0,0,0,0,0,0,0,0,0,0,0,0]
["Average",{"$f":"B22/COUNT(B14:B21)","v":15.16666666666667},{"$f":"IF(C22=0, \"\", C22/COUNT(C14:C21))","v":14.033333333333333},13.633333333333333,13.25,28.666666666666668,26.466666666666669,25.483333333333334,25.599999999999998,45.85,41.2,39.133333333333333,38.4,50.65,46.183333333333337,44.033333333333331,45.633333333333333,58.833333333333336,55.70000000000001,53.133333333333333,52.4,77.466666666666669,73.033333333333331,67.866666666666674,64.466666666666669,84.55,75.849999999999994,72.099999999999994,73.5,85.75,81.650000000000006,79.8,83.8,100.35,90,87.800000000000011,91.5,"","","","","","","","","","","",""]

{"sheet":"Height-Age","index":3,"n_rows":21,"n_cols":17,"rows_kept":21,"cut":false,"hidden":false,"merged":[[5,8,5,16]]}
[]
[null,"Data of Seedling Data:"]
[]
[null,"No of groups in the class",null,{"$f":"'Stump Analysis Data'!E6","v":11},null,null,null,null,null,null,null,null,null,null,"Age at Breast Height = ",null,9.5212188792092274]
[]
[null,"S No.","Height\n(y axis)\n(in cms)","Age\n(x axis)\n(in years)",null,null,null,null,"Height v/s Age Graph from Consolidated Seedling Data"]
[null,1,0,0]
[null,2,10,1.125]
[null,3,20,2.25]
[null,4,30,3.125]
[null,5,40,3.75]
[null,6,50,4.375]
[null,7,60,5]
[null,8,70,5.875]
[null,9,80,6.625]
[null,10,100,7.625]
[null,11,120,8.75]
[null,12,140,9.75]
[null,13,160,10.5]
[null,14,180,11.75]
[null,"Total",{"$f":"SUM(C7:C20)","v":1060},{"$f":"SUM(D7:D20)","v":80.5}]

{"sheet":"Output 3","index":4,"n_rows":20,"n_cols":71,"rows_kept":20,"cut":false,"hidden":true,"merged":[[4,66,4,69],[0,0,0,3],[4,30,4,33],[4,36,4,39],[4,42,4,45],[4,48,4,51],[4,54,4,57],[4,60,4,63],[2,0,2,3],[4,0,4,3],[4,6,4,9],[4,12,4,15],[4,18,4,21],[4,24,4,27]]}
["Calculations of Form 3"]
[]
["No of groups in the class",null,null,null,8]
[]
["D.b.h. Class 10-20",null,null,null,null,null,"D.b.h. Class 20-30",null,null,null,null,null,"D.b.h. Class 30-40",null,null,null,null,null,"D.b.h. Class 40-50",null,null,null,null,null,"D.b.h Class 50-60",null,null,null,null,null,"D.b.h. Class 60-70",null,null,null,null,null,"D.b.h. Class 70-80",null,null,null,null,null,"D.b.h. class 80-90",null,null,null,null,null,"D.b.h. Class 90-100",null,null,null,null,null,"D.b.h. Class 100-110",null,null,null,null,null,"D.b.h Class 110-120",null,null,null,null,null,"D.b.h. Class 120-130"]
["DBH",13.25,null,null,null,null,"DBH",25.599999999999998,null,null,null,null,"DBH",38.4,null,null,null,null,"DBH",45.633333333333333,null,null,null,null,"DBH",52.4,null,null,null,null,"DBH",64.466666666666669,null,null,null,null,"DBH",73.5,null,null,null,null,"DBH",83.8,null,null,null,null,"DBH",91.5,null,null,null,null,"DBH",null,null,null,null,null,"DBH",null,null,null,null,null,"DBH"]
[]
[null,"Height","DUB",null,null,null,null,"Height","DUB",null,null,null,null,"Height","DUB",null,null,null,null,"Height","DUB",null,null,null,null,"Height","DUB",null,null,null,null,"Height","DUB",null,null,null,null,"Height","DUB",null,null,null,null,"Height","DUB",null,null,null,null,"Height","DUB",null,null,null,null,"Height","DUB",null,null,null,null,"Height","DUB",null,null,null,null,"Height","DUB"]
[null,"x","y","x*x","x*y",null,null,"x","y","x*x","x*y",null,null,"x","y","x*x","x*y",null,null,"x","y","x*x","x*y",null,null,"x","y","x*x","x*y",null,null,"x","y","x*x","x*y",null,null,"x","y","x*x","x*y",null,null,"x","y","x*x","x*y",null,null,"x","y","x*x","x*y",null,null,"x","y","x*x","x*y",null,null,"x","y","x*x","x*y",null,null,"x","y","x*x","x*y"]
[null,15,15.16666666666667,{"$f":"B10*B10","v":225},{"$f":"B10*C10","v":227.50000000000006},null,null,15,28.666666666666668,{"$f":"H10*H10","v":225},{"$f":"H10*I10","v":430},null,null,15,45.85,{"$f":"N10*N10","v":225},{"$f":"N10*O10","v":687.75},null,null,15,50.65,{"$f":"T10*T10","v":225},{"$f":"T10*U10","v":759.75},null,null,15,58.833333333333336,{"$f":"Z10*Z10","v":225},{"$f":"Z10*AA10","v":882.5},null,null,15,77.466666666666669,{"$f":"AF10*AF10","v":225},{"$f":"AF10*AG10","v":1162},null,null,15,84.55,{"$f":"AL10*AL10","v":225},{"$f":"AL10*AM10","v":1268.25},null,null,15,85.75,{"$f":"AR10*AR10","v":225},{"$f":"AR10*AS10","v":1286.25},null,null,15,100.35,{"$f":"AX10*AX10","v":225},{"$f":"AX10*AY10","v":1505.25},null,null,15,null,{"$f":"BD10*BD10","v":225},{"$f":"BD10*BE10","v":0},null,null,15,null,{"$f":"BJ10*BJ10","v":225},{"$f":"BJ10*BK10","v":0},null,null,15,null,{"$f":"BP10*BP10","v":225},{"$f":"BP10*BQ10","v":0}]
[null,45,14.033333333333333,{"$f":"B11*B11","v":2025},{"$f":"B11*C11","v":631.5},null,null,45,26.466666666666669,{"$f":"H11*H11","v":2025},{"$f":"H11*I11","v":1191},null,null,45,41.2,{"$f":"N11*N11","v":2025},{"$f":"N11*O11","v":1854.0000000000002},null,null,45,46.183333333333337,{"$f":"T11*T11","v":2025},{"$f":"T11*U11","v":2078.25},null,null,45,55.70000000000001,{"$f":"Z11*Z11","v":2025},{"$f":"Z11*AA11","v":2506.5000000000005},null,null,45,73.033333333333331,{"$f":"AF11*AF11","v":2025},{"$f":"AF11*AG11","v":3286.5},null,null,45,75.849999999999994,{"$f":"AL11*AL11","v":2025},{"$f":"AL11*AM11","v":3413.2499999999995},null,null,45,81.650000000000006,{"$f":"AR11*AR11","v":2025},{"$f":"AR11*AS11","v":3674.2500000000005},null,null,45,90,{"$f":"AX11*AX11","v":2025},{"$f":"AX11*AY11","v":4050},null,null,45,null,{"$f":"BD11*BD11","v":2025},{"$f":"BD11*BE11","v":0},null,null,45,null,{"$f":"BJ11*BJ11","v":2025},{"$f":"BJ11*BK11","v":0},null,null,45,null,{"$f":"BP11*BP11","v":2025},{"$f":"BP11*BQ11","v":0}]
[null,75,13.633333333333333,5625,1022.5,null,null,75,25.483333333333334,5625,1911.25,null,null,75,39.133333333333333,5625,2935,null,null,75,44.033333333333331,5625,3302.5,null,null,75,53.133333333333333,5625,3985,null,null,75,67.866666666666674,5625,5090.0000000000009,null,null,75,72.099999999999994,5625,5407.5,null,null,75,79.8,5625,5985,null,null,75,87.800000000000011,5625,6585.0000000000009,null,null,75,null,5625,0,null,null,75,null,5625,0,null,null,75,null,5625,0]
["Sum",{"$f":"SUM(B10:B12)","v":135},{"$f":"SUM(C10:C12)","v":42.833333333333336},7875,1881.5,null,"Sum",{"$f":"SUM(H10:H12)","v":135},{"$f":"SUM(I10:I12)","v":80.616666666666674},{"$f":"SUM(J10:J12)","v":7875},{"$f":"SUM(K10:K12)","v":3532.25},null,"Sum",{"$f":"SUM(N10:N12)","v":135},{"$f":"SUM(O10:O12)","v":126.18333333333334},{"$f":"SUM(P10:P12)","v":7875},{"$f":"SUM(Q10:Q12)","v":5476.75},null,"Sum",{"$f":"SUM(T10:T12)","v":135},{"$f":"SUM(U10:U12)","v":140.86666666666667},{"$f":"SUM(V10:V12)","v":7875},{"$f":"SUM(W10:W12)","v":6140.5},null,"Sum",{"$f":"SUM(Z10:Z12)","v":135},{"$f":"SUM(AA10:AA12)","v":167.66666666666669},{"$f":"SUM(AB10:AB12)","v":7875},{"$f":"SUM(AC10:AC12)","v":7374},null,"Sum",{"$f":"SUM(AF10:AF12)","v":135},{"$f":"SUM(AG10:AG12)","v":218.36666666666667},{"$f":"SUM(AH10:AH12)","v":7875},{"$f":"SUM(AI10:AI12)","v":9538.5},null,"Sum",{"$f":"SUM(AL10:AL12)","v":135},{"$f":"SUM(AM10:AM12)","v":232.49999999999997},{"$f":"SUM(AN10:AN12)","v":7875},{"$f":"SUM(AO10:AO12)","v":10089},null,"Sum",{"$f":"SUM(AR10:AR12)","v":135},{"$f":"SUM(AS10:AS12)","v":247.2},{"$f":"SUM(AT10:AT12)","v":7875},{"$f":"SUM(AU10:AU12)","v":10945.5},null,"Sum",{"$f":"SUM(AX10:AX12)","v":135},{"$f":"SUM(AY10:AY12)","v":278.14999999999998},{"$f":"SUM(AZ10:AZ12)","v":7875},{"$f":"SUM(BA10:BA12)","v":12140.25},null,"Sum",{"$f":"SUM(BD10:BD12)","v":135},{"$f":"SUM(BE10:BE12)","v":0},7875,0,null,"Sum",{"$f":"SUM(BJ10:BJ12)","v":135},{"$f":"SUM(BK10:BK12)","v":0},7875,0,null,"Sum",{"$f":"SUM(BP10:BP12)","v":135},{"$f":"SUM(BQ10:BQ12)","v":0},7875,0]
[]
["Sxx",{"$f":"(3*D13-(B13*B13))/3","v":1800},null,null,null,null,"Sxx",{"$f":"(3*J13-(H13*H13))/3","v":1800},null,null,null,null,"Sxx",{"$f":"(3*P13-(N13*N13))/3","v":1800},null,null,null,null,"Sxx",{"$f":"(3*V13-(T13*T13))/3","v":1800},null,null,null,null,"Sxx",{"$f":"(3*AB13-(Z13*Z13))/3","v":1800},null,null,null,null,"Sxx",{"$f":"(3*AH13-(AF13*AF13))/3","v":1800},null,null,null,null,"Sxx",{"$f":"(3*AN13-(AL13*AL13))/3","v":1800},null,null,null,null,"Sxx",{"$f":"(3*AT13-(AR13*AR13))/3","v":1800},null,null,null,null,"Sxx",{"$f":"(3*AZ13-(AX13*AX13))/3","v":1800},null,null,null,null,"Sxx",{"$f":"(3*BF13-(BD13*BD13))/3","v":1800},null,null,null,null,"Sxx",{"$f":"(3*BL13-(BJ13*BJ13))/3","v":1800},null,null,null,null,"Sxx",{"$f":"(3*BR13-(BP13*BP13))/3","v":1800}]
["Sxy",{"$f":"(3*E13-(B13*C13))/3","v":-46},null,null,null,null,"Sxy",{"$f":"(3*K13-(H13*I13))/3","v":-95.500000000000611},null,null,null,null,"Sxy",{"$f":"(3*Q13-(N13*O13))/3","v":-201.5},null,null,null,null,"Sxy",{"$f":"(3*W13-(T13*U13))/3","v":-198.5},null,null,null,null,"Sxy",{"$f":"(3*AC13-(Z13*AA13))/3","v":-171.00000000000122},null,null,null,null,"Sxy",{"$f":"(3*AI13-(AF13*AG13))/3","v":-288},null,null,null,null,"Sxy",{"$f":"(3*AO13-(AL13*AM13))/3","v":-373.49999999999881},null,null,null,null,"Sxy",{"$f":"(3*AU13-(AR13*AS13))/3","v":-178.5},null,null,null,null,"Sxy",{"$f":"(3*BA13-(AX13*AY13))/3","v":-376.5},null,null,null,null,"Sxy",{"$f":"(3*BG13-(BD13*BE13))/3","v":0},null,null,null,null,"Sxy",{"$f":"(3*BM13-(BJ13*BK13))/3","v":0},null,null,null,null,"Sxy",{"$f":"(3*BS13-(BP13*BQ13))/3","v":0}]
["b",{"$f":"B16/B15","v":-2.5555555555555557E-2},null,null,null,null,"b",{"$f":"H16/H15","v":-5.3055555555555897E-2},null,null,null,null,"b",{"$f":"N16/N15","v":-0.11194444444444444},null,null,null,null,"b",{"$f":"T16/T15","v":-0.11027777777777778},null,null,null,null,"b",{"$f":"Z16/Z15","v":-9.5000000000000681E-2},null,null,null,null,"b",{"$f":"AF16/AF15","v":-0.16},null,null,null,null,"b",{"$f":"AL16/AL15","v":-0.20749999999999932},null,null,null,null,"b",{"$f":"AR16/AR15","v":-9.9166666666666667E-2},null,null,null,null,"b",{"$f":"AX16/AX15","v":-0.20916666666666667},null,null,null,null,"b",{"$f":"BD16/BD15","v":0},null,null,null,null,"b",{"$f":"BJ16/BJ15","v":0},null,null,null,null,"b",{"$f":"BP16/BP15","v":0}]
["a",{"$f":"(C13-(B13*B17))/3","v":15.427777777777779},null,null,null,null,"a",{"$f":"(I13-(H13*H17))/3","v":29.259722222222241},null,null,null,null,"a",{"$f":"(O13-(N13*N17))/3","v":47.098611111111119},null,null,null,null,"a",{"$f":"(U13-(T13*T17))/3","v":51.918055555555554},null,null,null,null,"a",{"$f":"(AA13-(Z13*Z17))/3","v":60.163888888888927},null,null,null,null,"a",{"$f":"(AG13-(AF13*AF17))/3","v":79.988888888888894},null,null,null,null,"a",{"$f":"(AM13-(AL13*AL17))/3","v":86.837499999999963},null,null,null,null,"a",{"$f":"(AS13-(AR13*AR17))/3","v":86.862499999999997},null,null,null,null,"a",{"$f":"(AY13-(AX13*AX17))/3","v":102.12916666666666},null,null,null,null,"a",{"$f":"(BE13-(BD13*BD17))/3","v":0},null,null,null,null,"a",{"$f":"(BK13-(BJ13*BJ17))/3","v":0},null,null,null,null,"a",{"$f":"(BQ13-(BP13*BP17))/3","v":0}]
["x=",8,null,null,null,null,"x=",8,null,null,null,null,"x=",8,null,null,null,null,"x=",8,null,null,null,null,"x=",8,null,null,null,null,"x=",8,null,null,null,null,"x=",8,null,null,null,null,"x=",8,null,null,null,null,"x=",8,null,null,null,null,"x=",8,null,null,null,null,"x=",8,null,null,null,null,"x=",8]
["For x = 8, y = ",null,{"$f":"(B17*B19)+B18","v":15.223333333333334},null,null,null,"For x = 8, y = ",null,{"$f":"(H17*H19)+H18","v":28.835277777777794},null,null,null,"For x = 8, y = ",null,{"$f":"(N17*N19)+N18","v":46.203055555555565},null,null,null,"For x = 8, y = ",null,{"$f":"(T17*T19)+T18","v":51.035833333333329},null,null,null,"For x = 8, y = ",null,{"$f":"(Z17*Z19)+Z18","v":59.403888888888922},null,null,null,"For x = 8, y = ",null,{"$f":"(AF17*AF19)+AF18","v":78.708888888888893},null,null,null,"For x = 8, y = ",null,{"$f":"(AL17*AL19)+AL18","v":85.177499999999966},null,null,null,"For x = 8, y = ",null,{"$f":"(AR17*AR19)+AR18","v":86.069166666666661},null,null,null,"For x = 8, y = ",null,{"$f":"(AX17*AX19)+AX18","v":100.45583333333333},null,null,null,"For x = 8, y = ",null,{"$f":"(BD17*BD19)+BD18","v":0},null,null,null,"For x = 8, y = ",null,{"$f":"(BJ17*BJ19)+BJ18","v":0},null,null,null,"For x = 8, y = ",null,{"$f":"(BP17*BP19)+BP18","v":0}]

{"sheet":"DUB-DBH(OB)","index":5,"n_rows":78,"n_cols":12,"rows_kept":78,"cut":false,"hidden":false,"merged":[[51,6,59,6],[60,6,68,6],[69,6,77,6],[6,6,14,6],[15,6,23,6],[24,6,32,6],[33,6,41,6],[42,6,50,6],[4,11,5,17],[0,0,0,3],[2,0,2,3],[4,0,5,0],[4,1,5,1],[4,6,4,9]]}
["Data for DBH(OB) v/s DUB Graphs"]
[]
["No of groups in the class",null,null,null,{"$f":"'Stump Analysis Data'!E6","v":11},null,"Number of DBH Classes",null,null,{"$f":"COUNT('Taper Data'!B23:AW23)/4","v":9}]
[]
["Group no.","Stump Height (cm)",null,null,null,null,"Graph Data",null,null,null,null,"DBH(OB) v/s DUB Graphs for all Groups"]
[null,null,null,null,null,null,"Group No","DBH Class","DUB\n(X)","DBH(OB)\n(Y)"]
[1,{"$f":"VLOOKUP(A7, 'Stump Analysis Data'!#REF!, 2, 0)","v":{"$error":"#REF!"}},null,null,null,null,1,"0to10",{"$f":"'Output 3'!B17*'DUB-DBH(OB)'!B7+'Output 3'!B18","v":{"$error":"#REF!"}},{"$f":"'Output 3'!B6","v":13.25}]
[{"$f":"A7+1","v":2},{"$f":"VLOOKUP(A8, 'Stump Analysis Data'!#REF!, 2, 0)","v":{"$error":"#REF!"}},null,null,null,null,null,"10to20",{"$f":"'Output 3'!H17*'DUB-DBH(OB)'!B7+'Output 3'!H18","v":{"$error":"#REF!"}},{"$f":"'Output 3'!H6","v":25.599999999999998}]
[3,{"$f":"VLOOKUP(A9, 'Stump Analysis Data'!#REF!, 2, 0)","v":{"$error":"#REF!"}},null,null,null,null,null,"20to30",{"$f":"'Output 3'!N17*'DUB-DBH(OB)'!B7+'Output 3'!N18","v":{"$error":"#REF!"}},{"$f":"'Output 3'!N6","v":38.4}]
[4,{"$f":"VLOOKUP(A10, 'Stump Analysis Data'!#REF!, 2, 0)","v":{"$error":"#REF!"}},null,null,null,null,null,"30to40",{"$f":"'Output 3'!T17*'DUB-DBH(OB)'!B7+'Output 3'!T18","v":{"$error":"#REF!"}},{"$f":"'Output 3'!T6","v":45.633333333333333}]
[5,{"$f":"VLOOKUP(A11, 'Stump Analysis Data'!#REF!, 2, 0)","v":{"$error":"#REF!"}},null,null,null,null,null,"40to50",{"$f":"'Output 3'!Z17*'DUB-DBH(OB)'!B7+'Output 3'!Z18","v":{"$error":"#REF!"}},{"$f":"'Output 3'!Z6","v":52.4}]
[6,{"$f":"VLOOKUP(A12, 'Stump Analysis Data'!#REF!, 2, 0)","v":{"$error":"#REF!"}},null,null,null,null,null,"50to60",{"$f":"'Output 3'!AF17*'DUB-DBH(OB)'!B7+'Output 3'!AF18","v":{"$error":"#REF!"}},{"$f":"'Output 3'!AF6","v":64.466666666666669}]
[7,{"$f":"VLOOKUP(A13, 'Stump Analysis Data'!#REF!, 2, 0)","v":{"$error":"#REF!"}},null,null,null,null,null,"60to70",{"$f":"'Output 3'!AL17*'DUB-DBH(OB)'!B7+'Output 3'!AL18","v":{"$error":"#REF!"}},{"$f":"'Output 3'!AL6","v":73.5}]
[8,{"$f":"VLOOKUP(A14, 'Stump Analysis Data'!#REF!, 2, 0)","v":{"$error":"#REF!"}},null,null,null,null,null,"70to80",{"$f":"'Output 3'!AR17*'DUB-DBH(OB)'!B7+'Output 3'!AR18","v":{"$error":"#REF!"}},{"$f":"'Output 3'!AR6","v":83.8}]
[null,null,null,null,null,null,null,"80to90",{"$f":"'Output 3'!AX17*'DUB-DBH(OB)'!B7+'Output 3'!AX18","v":{"$error":"#REF!"}},{"$f":"'Output 3'!AX6","v":91.5}]
[null,null,null,null,null,null,2,"0to10",{"$f":"'Output 3'!B17*'DUB-DBH(OB)'!B8+'Output 3'!B18","v":{"$error":"#REF!"}},{"$f":"'Output 3'!B6","v":13.25}]
[null,null,null,null,null,null,null,"10to20",{"$f":"'Output 3'!H17*'DUB-DBH(OB)'!B8+'Output 3'!H18","v":{"$error":"#REF!"}},{"$f":"'Output 3'!H6","v":25.599999999999998}]
[null,null,null,null,null,null,null,"20to30",{"$f":"'Output 3'!N17*'DUB-DBH(OB)'!B8+'Output 3'!N18","v":{"$error":"#REF!"}},{"$f":"'Output 3'!N6","v":38.4}]
[null,null,null,null,null,null,null,"30to40",{"$f":"'Output 3'!T17*'DUB-DBH(OB)'!B8+'Output 3'!T18","v":{"$error":"#REF!"}},{"$f":"'Output 3'!T6","v":45.633333333333333}]
[null,null,null,null,null,null,null,"40to50",{"$f":"'Output 3'!Z17*'DUB-DBH(OB)'!B8+'Output 3'!Z18","v":{"$error":"#REF!"}},{"$f":"'Output 3'!Z6","v":52.4}]
[null,null,null,null,null,null,null,"50to60",{"$f":"'Output 3'!AF17*'DUB-DBH(OB)'!B8+'Output 3'!AF18","v":{"$error":"#REF!"}},{"$f":"'Output 3'!AF6","v":64.466666666666669}]
[null,null,null,null,null,null,null,"60to70",{"$f":"'Output 3'!AL17*'DUB-DBH(OB)'!B8+'Output 3'!AL18","v":{"$error":"#REF!"}},{"$f":"'Output 3'!AL6","v":73.5}]
[null,null,null,null,null,null,null,"70to80",{"$f":"'Output 3'!AR17*'DUB-DBH(OB)'!B8+'Output 3'!AR18","v":{"$error":"#REF!"}},{"$f":"'Output 3'!AR6","v":83.8}]
[null,null,null,null,null,null,null,"80to90",{"$f":"'Output 3'!AX17*'DUB-DBH(OB)'!B8+'Output 3'!AX18","v":{"$error":"#REF!"}},{"$f":"'Output 3'!AX6","v":91.5}]
[null,null,null,null,null,null,3,"0to10",{"$f":"'Output 3'!B17*'DUB-DBH(OB)'!B9+'Output 3'!B18","v":{"$error":"#REF!"}},{"$f":"'Output 3'!B6","v":13.25}]
[null,null,null,null,null,null,null,"10to20",{"$f":"'Output 3'!H17*'DUB-DBH(OB)'!B9+'Output 3'!H18","v":{"$error":"#REF!"}},{"$f":"'Output 3'!H6","v":25.599999999999998}]
[null,null,null,null,null,null,null,"20to30",{"$f":"'Output 3'!N17*'DUB-DBH(OB)'!B9+'Output 3'!N18","v":{"$error":"#REF!"}},{"$f":"'Output 3'!N6","v":38.4}]
[null,null,null,null,null,null,null,"30to40",{"$f":"'Output 3'!T17*'DUB-DBH(OB)'!B9+'Output 3'!T18","v":{"$error":"#REF!"}},{"$f":"'Output 3'!T6","v":45.633333333333333}]
[null,null,null,null,null,null,null,"40to50",{"$f":"'Output 3'!Z17*'DUB-DBH(OB)'!B9+'Output 3'!Z18","v":{"$error":"#REF!"}},{"$f":"'Output 3'!Z6","v":52.4}]
[null,null,null,null,null,null,null,"50to60",{"$f":"'Output 3'!AF17*'DUB-DBH(OB)'!B9+'Output 3'!AF18","v":{"$error":"#REF!"}},{"$f":"'Output 3'!AF6","v":64.466666666666669}]
[null,null,null,null,null,null,null,"60to70",{"$f":"'Output 3'!AL17*'DUB-DBH(OB)'!B9+'Output 3'!AL18","v":{"$error":"#REF!"}},{"$f":"'Output 3'!AL6","v":73.5}]
[null,null,null,null,null,null,null,"70to80",{"$f":"'Output 3'!AR17*'DUB-DBH(OB)'!B9+'Output 3'!AR18","v":{"$error":"#REF!"}},{"$f":"'Output 3'!AR6","v":83.8}]
[null,null,null,null,null,null,null,"80to90",{"$f":"'Output 3'!AX17*'DUB-DBH(OB)'!B9+'Output 3'!AX18","v":{"$error":"#REF!"}},{"$f":"'Output 3'!AX6","v":91.5}]
[null,null,null,null,null,null,4,"0to10",{"$f":"'Output 3'!B17*'DUB-DBH(OB)'!B10+'Output 3'!B18","v":{"$error":"#REF!"}},{"$f":"'Output 3'!B6","v":13.25}]
[null,null,null,null,null,null,null,"10to20",{"$f":"'Output 3'!H17*'DUB-DBH(OB)'!B10+'Output 3'!H18","v":{"$error":"#REF!"}},{"$f":"'Output 3'!H6","v":25.599999999999998}]
[null,null,null,null,null,null,null,"20to30",{"$f":"'Output 3'!N17*'DUB-DBH(OB)'!B10+'Output 3'!N18","v":{"$error":"#REF!"}},{"$f":"'Output 3'!N6","v":38.4}]
[null,null,null,null,null,null,null,"30to40",{"$f":"'Output 3'!T17*'DUB-DBH(OB)'!B10+'Output 3'!T18","v":{"$error":"#REF!"}},{"$f":"'Output 3'!T6","v":45.633333333333333}]
[null,null,null,null,null,null,null,"40to50",{"$f":"'Output 3'!Z17*'DUB-DBH(OB)'!B10+'Output 3'!Z18","v":{"$error":"#REF!"}},{"$f":"'Output 3'!Z6","v":52.4}]
[null,null,null,null,null,null,null,"50to60",{"$f":"'Output 3'!AF17*'DUB-DBH(OB)'!B10+'Output 3'!AF18","v":{"$error":"#REF!"}},{"$f":"'Output 3'!AF6","v":64.466666666666669}]
[null,null,null,null,null,null,null,"60to70",{"$f":"'Output 3'!AL17*'DUB-DBH(OB)'!B10+'Output 3'!AL18","v":{"$error":"#REF!"}},{"$f":"'Output 3'!AL6","v":73.5}]
[null,null,null,null,null,null,null,"70to80",{"$f":"'Output 3'!AR17*'DUB-DBH(OB)'!B10+'Output 3'!AR18","v":{"$error":"#REF!"}},{"$f":"'Output 3'!AR6","v":83.8}]
[null,null,null,null,null,null,null,"80to90",{"$f":"'Output 3'!AX17*'DUB-DBH(OB)'!B10+'Output 3'!AX18","v":{"$error":"#REF!"}},{"$f":"'Output 3'!AX6","v":91.5}]
[null,null,null,null,null,null,5,"0to10",{"$f":"'Output 3'!B17*'DUB-DBH(OB)'!B11+'Output 3'!B18","v":{"$error":"#REF!"}},{"$f":"'Output 3'!B6","v":13.25}]
[null,null,null,null,null,null,null,"10to20",{"$f":"'Output 3'!H17*'DUB-DBH(OB)'!B11+'Output 3'!H18","v":{"$error":"#REF!"}},{"$f":"'Output 3'!H6","v":25.599999999999998}]
[null,null,null,null,null,null,null,"20to30",{"$f":"'Output 3'!N17*'DUB-DBH(OB)'!B11+'Output 3'!N18","v":{"$error":"#REF!"}},{"$f":"'Output 3'!N6","v":38.4}]
[null,null,null,null,null,null,null,"30to40",{"$f":"'Output 3'!T17*'DUB-DBH(OB)'!B11+'Output 3'!T18","v":{"$error":"#REF!"}},{"$f":"'Output 3'!T6","v":45.633333333333333}]
[null,null,null,null,null,null,null,"40to50",{"$f":"'Output 3'!Z17*'DUB-DBH(OB)'!B11+'Output 3'!Z18","v":{"$error":"#REF!"}},{"$f":"'Output 3'!Z6","v":52.4}]
[null,null,null,null,null,null,null,"50to60",{"$f":"'Output 3'!AF17*'DUB-DBH(OB)'!B11+'Output 3'!AF18","v":{"$error":"#REF!"}},{"$f":"'Output 3'!AF6","v":64.466666666666669}]
[null,null,null,null,null,null,null,"60to70",{"$f":"'Output 3'!AL17*'DUB-DBH(OB)'!B11+'Output 3'!AL18","v":{"$error":"#REF!"}},{"$f":"'Output 3'!AL6","v":73.5}]
[null,null,null,null,null,null,null,"70to80",{"$f":"'Output 3'!AR17*'DUB-DBH(OB)'!B11+'Output 3'!AR18","v":{"$error":"#REF!"}},{"$f":"'Output 3'!AR6","v":83.8}]
[null,null,null,null,null,null,null,"80to90",{"$f":"'Output 3'!AX17*'DUB-DBH(OB)'!B11+'Output 3'!AX18","v":{"$error":"#REF!"}},{"$f":"'Output 3'!AX6","v":91.5}]
[null,null,null,null,null,null,6,"0to10",{"$f":"'Output 3'!B17*'DUB-DBH(OB)'!B12+'Output 3'!B18","v":{"$error":"#REF!"}},{"$f":"'Output 3'!B6","v":13.25}]
[null,null,null,null,null,null,null,"10to20",{"$f":"'Output 3'!H17*'DUB-DBH(OB)'!B12+'Output 3'!H18","v":{"$error":"#REF!"}},{"$f":"'Output 3'!H6","v":25.599999999999998}]
[null,null,null,null,null,null,null,"20to30",{"$f":"'Output 3'!N17*'DUB-DBH(OB)'!B12+'Output 3'!N18","v":{"$error":"#REF!"}},{"$f":"'Output 3'!N6","v":38.4}]
[null,null,null,null,null,null,null,"30to40",{"$f":"'Output 3'!T17*'DUB-DBH(OB)'!B12+'Output 3'!T18","v":{"$error":"#REF!"}},{"$f":"'Output 3'!T6","v":45.633333333333333}]
[null,null,null,null,null,null,null,"40to50",{"$f":"'Output 3'!Z17*'DUB-DBH(OB)'!B12+'Output 3'!Z18","v":{"$error":"#REF!"}},{"$f":"'Output 3'!Z6","v":52.4}]
[null,null,null,null,null,null,null,"50to60",{"$f":"'Output 3'!AF17*'DUB-DBH(OB)'!B12+'Output 3'!AF18","v":{"$error":"#REF!"}},{"$f":"'Output 3'!AF6","v":64.466666666666669}]
[null,null,null,null,null,null,null,"60to70",{"$f":"'Output 3'!AL17*'DUB-DBH(OB)'!B12+'Output 3'!AL18","v":{"$error":"#REF!"}},{"$f":"'Output 3'!AL6","v":73.5}]
[null,null,null,null,null,null,null,"70to80",{"$f":"'Output 3'!AR17*'DUB-DBH(OB)'!B12+'Output 3'!AR18","v":{"$error":"#REF!"}},{"$f":"'Output 3'!AR6","v":83.8}]
[null,null,null,null,null,null,null,"80to90",{"$f":"'Output 3'!AX17*'DUB-DBH(OB)'!B12+'Output 3'!AX18","v":{"$error":"#REF!"}},{"$f":"'Output 3'!AX6","v":91.5}]
[null,null,null,null,null,null,7,"0to10",{"$f":"'Output 3'!B17*'DUB-DBH(OB)'!B13+'Output 3'!B18","v":{"$error":"#REF!"}},{"$f":"'Output 3'!B6","v":13.25}]
[null,null,null,null,null,null,null,"10to20",{"$f":"'Output 3'!H17*'DUB-DBH(OB)'!B13+'Output 3'!H18","v":{"$error":"#REF!"}},{"$f":"'Output 3'!H6","v":25.599999999999998}]
[null,null,null,null,null,null,null,"20to30",{"$f":"'Output 3'!N17*'DUB-DBH(OB)'!B13+'Output 3'!N18","v":{"$error":"#REF!"}},{"$f":"'Output 3'!N6","v":38.4}]
[null,null,null,null,null,null,null,"30to40",{"$f":"'Output 3'!T17*'DUB-DBH(OB)'!B13+'Output 3'!T18","v":{"$error":"#REF!"}},{"$f":"'Output 3'!T6","v":45.633333333333333}]
[null,null,null,null,null,null,null,"40to50",{"$f":"'Output 3'!Z17*'DUB-DBH(OB)'!B13+'Output 3'!Z18","v":{"$error":"#REF!"}},{"$f":"'Output 3'!Z6","v":52.4}]
[null,null,null,null,null,null,null,"50to60",{"$f":"'Output 3'!AF17*'DUB-DBH(OB)'!B13+'Output 3'!AF18","v":{"$error":"#REF!"}},{"$f":"'Output 3'!AF6","v":64.466666666666669}]
[null,null,null,null,null,null,null,"60to70",{"$f":"'Output 3'!AL17*'DUB-DBH(OB)'!B13+'Output 3'!AL18","v":{"$error":"#REF!"}},{"$f":"'Output 3'!AL6","v":73.5}]
[null,null,null,null,null,null,null,"70to80",{"$f":"'Output 3'!AR17*'DUB-DBH(OB)'!B13+'Output 3'!AR18","v":{"$error":"#REF!"}},{"$f":"'Output 3'!AR6","v":83.8}]
[null,null,null,null,null,null,null,"80to90",{"$f":"'Output 3'!AX17*'DUB-DBH(OB)'!B13+'Output 3'!AX18","v":{"$error":"#REF!"}},{"$f":"'Output 3'!AX6","v":91.5}]
[null,null,null,null,null,null,8,"0to10",{"$f":"'Output 3'!B17*'DUB-DBH(OB)'!B14+'Output 3'!B18","v":{"$error":"#REF!"}},{"$f":"'Output 3'!B6","v":13.25}]
[null,null,null,null,null,null,null,"10to20",{"$f":"'Output 3'!H17*'DUB-DBH(OB)'!B14+'Output 3'!H18","v":{"$error":"#REF!"}},{"$f":"'Output 3'!H6","v":25.599999999999998}]
[null,null,null,null,null,null,null,"20to30",{"$f":"'Output 3'!N17*'DUB-DBH(OB)'!B14+'Output 3'!N18","v":{"$error":"#REF!"}},{"$f":"'Output 3'!N6","v":38.4}]
[null,null,null,null,null,null,null,"30to40",{"$f":"'Output 3'!T17*'DUB-DBH(OB)'!B14+'Output 3'!T18","v":{"$error":"#REF!"}},{"$f":"'Output 3'!T6","v":45.633333333333333}]
[null,null,null,null,null,null,null,"40to50",{"$f":"'Output 3'!Z17*'DUB-DBH(OB)'!B14+'Output 3'!Z18","v":{"$error":"#REF!"}},{"$f":"'Output 3'!Z6","v":52.4}]
[null,null,null,null,null,null,null,"50to60",{"$f":"'Output 3'!AF17*'DUB-DBH(OB)'!B14+'Output 3'!AF18","v":{"$error":"#REF!"}},{"$f":"'Output 3'!AF6","v":64.466666666666669}]
[null,null,null,null,null,null,null,"60to70",{"$f":"'Output 3'!AL17*'DUB-DBH(OB)'!B14+'Output 3'!AL18","v":{"$error":"#REF!"}},{"$f":"'Output 3'!AL6","v":73.5}]
[null,null,null,null,null,null,null,"70to80",{"$f":"'Output 3'!AR17*'DUB-DBH(OB)'!B14+'Output 3'!AR18","v":{"$error":"#REF!"}},{"$f":"'Output 3'!AR6","v":83.8}]
[null,null,null,null,null,null,null,"80to90",{"$f":"'Output 3'!AX17*'DUB-DBH(OB)'!B14+'Output 3'!AX18","v":{"$error":"#REF!"}},{"$f":"'Output 3'!AX6","v":91.5}]

{"sheet":"DBH(OB)-Age","index":6,"n_rows":99,"n_cols":10,"rows_kept":99,"cut":false,"hidden":false,"merged":[[3,1,3,4],[2,1,2,4],[0,1,0,4],[5,9,5,17]]}
[null,"Data for DBH(OB) v/s Age Graphs"]
[]
[null,"Number of DBH Classes",null,null,null,{"$f":"'DUB-DBH(OB)'!J3","v":9}]
[null,"No of groups in the class",null,null,null,{"$f":"'Stump Analysis Data'!E6","v":11}]
[]
[null,"Group No","No of decades","Age at stump hieght - not corrected\n(years)","DUB at stump hieght\n(in cms)","Stump Height","Age at Breast Hieght","DOB at breast hieght\n(in cms)",null,"DBH(OB) v/s Age Graphs for all Groups"]
[null,1,{"$f":"COUNT('Stump Analysis Data'!#REF!)","v":0},10,5.64,{"$f":"VLOOKUP(B7, 'DUB-DBH(OB)'!A7:B15, 2, 0)","v":{"$error":"#REF!"}},11.325381315862547,5.6158801545314532]
[null,1,null,20,11.54,{"$f":"VLOOKUP(B8, 'DUB-DBH(OB)'!A7:B15, 2, 0)","v":{"$error":"#REF!"}},21.325381315862547,12.50778371784487]
[null,1,null,30,16.600000000000001,{"$f":"VLOOKUP(B9, 'DUB-DBH(OB)'!A7:B15, 2, 0)","v":{"$error":"#REF!"}},31.325381315862547,18.418467112822139]
[null,1,null,40,20.8,{"$f":"VLOOKUP(B10, 'DUB-DBH(OB)'!A7:B15, 2, 0)","v":{"$error":"#REF!"}},41.325381315862543,23.324567954502875]
[null,1,null,50,25,{"$f":"VLOOKUP(B11, 'DUB-DBH(OB)'!A7:B15, 2, 0)","v":{"$error":"#REF!"}},51.325381315862543,28.230668796183611]
[null,1,null,60,29.2,{"$f":"VLOOKUP(B12, 'DUB-DBH(OB)'!A7:B15, 2, 0)","v":{"$error":"#REF!"}},61.325381315862543,33.136769637864347]
[null,1,null,70,32,{"$f":"VLOOKUP(B13, 'DUB-DBH(OB)'!A7:B15, 2, 0)","v":{"$error":"#REF!"}},71.325381315862543,36.407503532318174]
[null,1,null,80,33.6,{"$f":"VLOOKUP(B14, 'DUB-DBH(OB)'!A7:B15, 2, 0)","v":{"$error":"#REF!"}},81.325381315862543,38.276494329148932]
[null,1,null,90,36,{"$f":"VLOOKUP(B15, 'DUB-DBH(OB)'!A7:B15, 2, 0)","v":{"$error":"#REF!"}},91.325381315862543,41.079980524395069]
[null,1,null,100,39.4,{"$f":"VLOOKUP(B16, 'DUB-DBH(OB)'!A7:B15, 2, 0)","v":{"$error":"#REF!"}},101.32538131586254,45.051585967660422]
[null,1,null,110,42.6,{"$f":"VLOOKUP(B17, 'DUB-DBH(OB)'!A7:B15, 2, 0)","v":{"$error":"#REF!"}},111.32538131586254,48.789567561321938]
[null,1,null,120,46.1,{"$f":"VLOOKUP(B18, 'DUB-DBH(OB)'!A7:B15, 2, 0)","v":{"$error":"#REF!"}},121.32538131586254,52.877984929389221]
[null,2,{"$f":"COUNT('Stump Analysis Data'!#REF!)","v":0},10,6.2,{"$f":"VLOOKUP(B19, 'DUB-DBH(OB)'!A7:B15, 2, 0)","v":{"$error":"#REF!"}},19.026315905147793,3.9393517841905412]
[null,2,null,20,10,{"$f":"VLOOKUP(B20, 'DUB-DBH(OB)'!A7:B15, 2, 0)","v":{"$error":"#REF!"}},29.026315905147793,7.4305740980957573]
[null,2,null,30,13.1,{"$f":"VLOOKUP(B21, 'DUB-DBH(OB)'!A7:B15, 2, 0)","v":{"$error":"#REF!"}},39.026315905147797,10.278676512071064]
[null,2,null,40,18.2,{"$f":"VLOOKUP(B22, 'DUB-DBH(OB)'!A7:B15, 2, 0)","v":{"$error":"#REF!"}},49.026315905147797,14.964264354417537]
[null,2,null,50,26.3,{"$f":"VLOOKUP(B23, 'DUB-DBH(OB)'!A7:B15, 2, 0)","v":{"$error":"#REF!"}},59.026315905147797,22.406080339320759]
[null,2,null,60,33.1,{"$f":"VLOOKUP(B24, 'DUB-DBH(OB)'!A7:B15, 2, 0)","v":{"$error":"#REF!"}},69.026315905147797,28.653530795782725]
[null,2,null,70,41.4,{"$f":"VLOOKUP(B25, 'DUB-DBH(OB)'!A7:B15, 2, 0)","v":{"$error":"#REF!"}},79.026315905147797,36.279095323523066]
[null,2,null,80,46.4,{"$f":"VLOOKUP(B26, 'DUB-DBH(OB)'!A7:B15, 2, 0)","v":{"$error":"#REF!"}},89.026315905147797,40.872808894450976]
[null,2,null,90,49,{"$f":"VLOOKUP(B27, 'DUB-DBH(OB)'!A7:B15, 2, 0)","v":{"$error":"#REF!"}},99.026315905147797,43.261539951333496]
[null,2,null,100,51,{"$f":"VLOOKUP(B28, 'DUB-DBH(OB)'!A7:B15, 2, 0)","v":{"$error":"#REF!"}},109.0263159051478,45.099025379704663]
[null,2,null,110,53.8,{"$f":"VLOOKUP(B29, 'DUB-DBH(OB)'!A7:B15, 2, 0)","v":{"$error":"#REF!"}},119.0263159051478,47.671504979424292]
[null,2,null,120,58.4,{"$f":"VLOOKUP(B30, 'DUB-DBH(OB)'!A7:B15, 2, 0)","v":{"$error":"#REF!"}},129.02631590514778,51.897721464677979]
[null,2,null,130,61.4,{"$f":"VLOOKUP(B31, 'DUB-DBH(OB)'!A7:B15, 2, 0)","v":{"$error":"#REF!"}},139.02631590514778,54.653949607234722]
[null,3,{"$f":"COUNT('Stump Analysis Data'!#REF!)","v":0},10,3.5,{"$f":"VLOOKUP(B32, 'DUB-DBH(OB)'!A7:B15, 2, 0)","v":{"$error":"#REF!"}},16.257265347898311,1.7786062571939323]
[null,3,null,20,7.5,{"$f":"VLOOKUP(B33, 'DUB-DBH(OB)'!A7:B15, 2, 0)","v":{"$error":"#REF!"}},26.257265347898311,5.8626840067765977]
[null,3,null,30,10.75,{"$f":"VLOOKUP(B34, 'DUB-DBH(OB)'!A7:B15, 2, 0)","v":{"$error":"#REF!"}},36.257265347898311,9.1809971783125146]
[null,3,null,40,13.85,{"$f":"VLOOKUP(B35, 'DUB-DBH(OB)'!A7:B15, 2, 0)","v":{"$error":"#REF!"}},46.257265347898311,12.34615743423908]
[null,3,null,50,17.899999999999999,{"$f":"VLOOKUP(B36, 'DUB-DBH(OB)'!A7:B15, 2, 0)","v":{"$error":"#REF!"}},56.257265347898311,16.481286155691528]
[null,3,null,60,21.55,{"$f":"VLOOKUP(B37, 'DUB-DBH(OB)'!A7:B15, 2, 0)","v":{"$error":"#REF!"}},66.257265347898311,20.208007102185714]
[null,3,null,70,25.75,{"$f":"VLOOKUP(B38, 'DUB-DBH(OB)'!A7:B15, 2, 0)","v":{"$error":"#REF!"}},76.257265347898311,24.496288739247511]
[null,3,null,80,29.95,{"$f":"VLOOKUP(B39, 'DUB-DBH(OB)'!A7:B15, 2, 0)","v":{"$error":"#REF!"}},86.257265347898311,28.784570376309311]
[null,3,null,90,34.15,{"$f":"VLOOKUP(B40, 'DUB-DBH(OB)'!A7:B15, 2, 0)","v":{"$error":"#REF!"}},96.257265347898311,33.072852013371111]
[null,3,null,100,38.1,{"$f":"VLOOKUP(B41, 'DUB-DBH(OB)'!A7:B15, 2, 0)","v":{"$error":"#REF!"}},106.25726534789831,37.105878791083995]
[null,3,null,110,43.25,{"$f":"VLOOKUP(B42, 'DUB-DBH(OB)'!A7:B15, 2, 0)","v":{"$error":"#REF!"}},116.25726534789831,42.364128893671676]
[null,3,null,120,48.85,{"$f":"VLOOKUP(B43, 'DUB-DBH(OB)'!A7:B15, 2, 0)","v":{"$error":"#REF!"}},126.25726534789831,48.081837743087405]
[null,3,null,130,54.15,{"$f":"VLOOKUP(B44, 'DUB-DBH(OB)'!A7:B15, 2, 0)","v":{"$error":"#REF!"}},136.25726534789831,53.49324076128444]
[null,4,{"$f":"COUNT('Stump Analysis Data'!#REF!)","v":0},10,4.75,{"$f":"VLOOKUP(B45, 'DUB-DBH(OB)'!A7:B15, 2, 0)","v":{"$error":"#REF!"}},17.471115641313837,2.8104750321049705]
[null,4,null,20,8.4499999999999993,{"$f":"VLOOKUP(B46, 'DUB-DBH(OB)'!A7:B15, 2, 0)","v":{"$error":"#REF!"}},27.471115641313837,6.4260765046689148]
[null,4,null,30,11.5,{"$f":"VLOOKUP(B47, 'DUB-DBH(OB)'!A7:B15, 2, 0)","v":{"$error":"#REF!"}},37.471115641313837,9.4065047455662203]
[null,4,null,40,14.05,{"$f":"VLOOKUP(B48, 'DUB-DBH(OB)'!A7:B15, 2, 0)","v":{"$error":"#REF!"}},47.471115641313837,11.898338192873805]
[null,4,null,50,17.100000000000001,{"$f":"VLOOKUP(B49, 'DUB-DBH(OB)'!A7:B15, 2, 0)","v":{"$error":"#REF!"}},57.471115641313837,14.878766433771112]
[null,4,null,60,20.05,{"$f":"VLOOKUP(B50, 'DUB-DBH(OB)'!A7:B15, 2, 0)","v":{"$error":"#REF!"}},67.47111564131383,17.761475715950471]
[null,4,null,70,25.7,{"$f":"VLOOKUP(B51, 'DUB-DBH(OB)'!A7:B15, 2, 0)","v":{"$error":"#REF!"}},77.47111564131383,23.28259688351433]
[null,4,null,80,29,{"$f":"VLOOKUP(B52, 'DUB-DBH(OB)'!A7:B15, 2, 0)","v":{"$error":"#REF!"}},87.47111564131383,26.507322521206497]
[null,4,null,90,32.4,{"$f":"VLOOKUP(B53, 'DUB-DBH(OB)'!A7:B15, 2, 0)","v":{"$error":"#REF!"}},97.47111564131383,29.829767117616605]
[null,4,null,100,35.450000000000003,{"$f":"VLOOKUP(B54, 'DUB-DBH(OB)'!A7:B15, 2, 0)","v":{"$error":"#REF!"}},107.47111564131383,32.810195358513916]
[null,4,null,110,39.25,{"$f":"VLOOKUP(B55, 'DUB-DBH(OB)'!A7:B15, 2, 0)","v":{"$error":"#REF!"}},117.47111564131383,36.523515789795802]
[null,4,null,120,43.55,{"$f":"VLOOKUP(B56, 'DUB-DBH(OB)'!A7:B15, 2, 0)","v":{"$error":"#REF!"}},127.47111564131383,40.725431014667407]
[null,4,null,130,48.5,{"$f":"VLOOKUP(B57, 'DUB-DBH(OB)'!A7:B15, 2, 0)","v":{"$error":"#REF!"}},137.47111564131384,45.562519471205661]
[null,4,null,140,51.5,{"$f":"VLOOKUP(B58, 'DUB-DBH(OB)'!A7:B15, 2, 0)","v":{"$error":"#REF!"}},147.47111564131384,48.494088232743998]
[null,4,null,150,54.75,{"$f":"VLOOKUP(B59, 'DUB-DBH(OB)'!A7:B15, 2, 0)","v":{"$error":"#REF!"}},157.47111564131384,51.669954391077191]
[null,5,{"$f":"COUNT('Stump Analysis Data'!#REF!)","v":0},10,5.35,{"$f":"VLOOKUP(B60, 'DUB-DBH(OB)'!A7:B15, 2, 0)","v":{"$error":"#REF!"}},19.125748165259765,3.1476870197829285]
[null,5,null,20,19.899999999999999,{"$f":"VLOOKUP(B61, 'DUB-DBH(OB)'!A7:B15, 2, 0)","v":{"$error":"#REF!"}},29.125748165259765,16.461222694023199]
[null,5,null,30,31.1,{"$f":"VLOOKUP(B62, 'DUB-DBH(OB)'!A7:B15, 2, 0)","v":{"$error":"#REF!"}},39.125748165259765,26.709442594469319]
[null,5,null,40,39,{"$f":"VLOOKUP(B63, 'DUB-DBH(OB)'!A7:B15, 2, 0)","v":{"$error":"#REF!"}},49.125748165259765,33.938097702819704]
[null,5,null,50,42.6,{"$f":"VLOOKUP(B64, 'DUB-DBH(OB)'!A7:B15, 2, 0)","v":{"$error":"#REF!"}},59.125748165259765,37.232168385105957]
[null,5,null,60,49.65,{"$f":"VLOOKUP(B65, 'DUB-DBH(OB)'!A7:B15, 2, 0)","v":{"$error":"#REF!"}},69.125748165259765,43.683056804583202]
[null,5,null,70,54.65,{"$f":"VLOOKUP(B66, 'DUB-DBH(OB)'!A7:B15, 2, 0)","v":{"$error":"#REF!"}},79.125748165259765,48.258154974425217]
[null,5,null,80,59.4,{"$f":"VLOOKUP(B67, 'DUB-DBH(OB)'!A7:B15, 2, 0)","v":{"$error":"#REF!"}},89.125748165259765,52.604498235775132]
[null,5,null,90,65,{"$f":"VLOOKUP(B68, 'DUB-DBH(OB)'!A7:B15, 2, 0)","v":{"$error":"#REF!"}},99.125748165259765,57.728608185998198]
[null,6,{"$f":"COUNT('Stump Analysis Data'!#REF!)","v":0},10,10.75,{"$f":"VLOOKUP(B69, 'DUB-DBH(OB)'!A7:B15, 2, 0)","v":{"$error":"#REF!"}},18.675503307125112,8.2331554321411335]
[null,6,null,20,22.15,{"$f":"VLOOKUP(B70, 'DUB-DBH(OB)'!A7:B15, 2, 0)","v":{"$error":"#REF!"}},28.675503307125112,18.857305148555756]
[null,6,null,30,28.35,{"$f":"VLOOKUP(B71, 'DUB-DBH(OB)'!A7:B15, 2, 0)","v":{"$error":"#REF!"}},38.675503307125112,24.635351485553187]
[null,6,null,40,33.700000000000003,{"$f":"VLOOKUP(B72, 'DUB-DBH(OB)'!A7:B15, 2, 0)","v":{"$error":"#REF!"}},48.675503307125112,29.621246308607422]
[null,6,null,50,39.450000000000003,{"$f":"VLOOKUP(B73, 'DUB-DBH(OB)'!A7:B15, 2, 0)","v":{"$error":"#REF!"}},58.675503307125112,34.979918314693741]
[null,6,null,60,42.45,{"$f":"VLOOKUP(B74, 'DUB-DBH(OB)'!A7:B15, 2, 0)","v":{"$error":"#REF!"}},68.675503307125112,37.775747187434433]
[null,6,null,70,44.7,{"$f":"VLOOKUP(B75, 'DUB-DBH(OB)'!A7:B15, 2, 0)","v":{"$error":"#REF!"}},78.675503307125112,39.872618841989954]
[null,6,null,80,47.9,{"$f":"VLOOKUP(B76, 'DUB-DBH(OB)'!A7:B15, 2, 0)","v":{"$error":"#REF!"}},88.675503307125112,42.854836306246689]
[null,6,null,90,50.9,{"$f":"VLOOKUP(B77, 'DUB-DBH(OB)'!A7:B15, 2, 0)","v":{"$error":"#REF!"}},98.675503307125112,45.650665178987374]
[null,7,{"$f":"COUNT('Stump Analysis Data'!#REF!)","v":0},10,5.3,{"$f":"VLOOKUP(B78, 'DUB-DBH(OB)'!A7:B15, 2, 0)","v":{"$error":"#REF!"}},16.794438449139154,3.4893523002222535]
[null,7,null,20,11.2,{"$f":"VLOOKUP(B79, 'DUB-DBH(OB)'!A7:B15, 2, 0)","v":{"$error":"#REF!"}},26.794438449139154,9.4008143547608576]
[null,7,null,30,13.6,{"$f":"VLOOKUP(B80, 'DUB-DBH(OB)'!A7:B15, 2, 0)","v":{"$error":"#REF!"}},36.79443844913915,11.80547688542063]
[null,7,null,40,18.2,{"$f":"VLOOKUP(B81, 'DUB-DBH(OB)'!A7:B15, 2, 0)","v":{"$error":"#REF!"}},46.79443844913915,16.414413402518527]
[null,7,null,50,20,{"$f":"VLOOKUP(B82, 'DUB-DBH(OB)'!A7:B15, 2, 0)","v":{"$error":"#REF!"}},56.79443844913915,18.217910300513353]
[null,7,null,60,20.8,{"$f":"VLOOKUP(B83, 'DUB-DBH(OB)'!A7:B15, 2, 0)","v":{"$error":"#REF!"}},66.79443844913915,19.019464477399946]
[null,7,null,70,22.4,{"$f":"VLOOKUP(B84, 'DUB-DBH(OB)'!A7:B15, 2, 0)","v":{"$error":"#REF!"}},76.79443844913915,20.622572831173123]
[null,7,null,80,26,{"$f":"VLOOKUP(B85, 'DUB-DBH(OB)'!A7:B15, 2, 0)","v":{"$error":"#REF!"}},86.79443844913915,24.229566627162782]
[null,7,null,90,31.2,{"$f":"VLOOKUP(B86, 'DUB-DBH(OB)'!A7:B15, 2, 0)","v":{"$error":"#REF!"}},96.79443844913915,29.439668776925622]
[null,7,null,100,34.4,{"$f":"VLOOKUP(B87, 'DUB-DBH(OB)'!A7:B15, 2, 0)","v":{"$error":"#REF!"}},106.79443844913915,32.645885484471982]
[null,7,null,110,38.4,{"$f":"VLOOKUP(B88, 'DUB-DBH(OB)'!A7:B15, 2, 0)","v":{"$error":"#REF!"}},116.79443844913915,36.653656368904933]
[null,7,null,120,42.2,{"$f":"VLOOKUP(B89, 'DUB-DBH(OB)'!A7:B15, 2, 0)","v":{"$error":"#REF!"}},126.79443844913915,40.461038709116245]
[null,8,{"$f":"COUNT('Stump Analysis Data'!#REF!)","v":0},10,4.2,{"$f":"VLOOKUP(B90, 'DUB-DBH(OB)'!A7:B15, 2, 0)","v":{"$error":"#REF!"}},19.026315905147793,2.1018663558193746]
[null,8,null,20,15.2,{"$f":"VLOOKUP(B91, 'DUB-DBH(OB)'!A7:B15, 2, 0)","v":{"$error":"#REF!"}},29.026315905147793,12.208036211860788]
[null,8,null,30,23.1,{"$f":"VLOOKUP(B92, 'DUB-DBH(OB)'!A7:B15, 2, 0)","v":{"$error":"#REF!"}},39.026315905147797,19.466103653926897]
[null,8,null,40,32.6,{"$f":"VLOOKUP(B93, 'DUB-DBH(OB)'!A7:B15, 2, 0)","v":{"$error":"#REF!"}},49.026315905147797,28.194159438689933]
[null,8,null,50,37.35,{"$f":"VLOOKUP(B94, 'DUB-DBH(OB)'!A7:B15, 2, 0)","v":{"$error":"#REF!"}},59.026315905147797,32.558187331071451]
[null,8,null,60,45.6,{"$f":"VLOOKUP(B95, 'DUB-DBH(OB)'!A7:B15, 2, 0)","v":{"$error":"#REF!"}},69.026315905147797,40.137814723102515]
[null,8,null,70,50.05,{"$f":"VLOOKUP(B96, 'DUB-DBH(OB)'!A7:B15, 2, 0)","v":{"$error":"#REF!"}},79.026315905147797,44.226219801228353]
[null,8,null,80,53.3,{"$f":"VLOOKUP(B97, 'DUB-DBH(OB)'!A7:B15, 2, 0)","v":{"$error":"#REF!"}},89.026315905147797,47.2121336223315]
[null,8,null,90,56.85,{"$f":"VLOOKUP(B98, 'DUB-DBH(OB)'!A7:B15, 2, 0)","v":{"$error":"#REF!"}},99.026315905147797,50.473670257690323]
[null,8,null,100,60.25,{"$f":"VLOOKUP(B99, 'DUB-DBH(OB)'!A7:B15, 2, 0)","v":{"$error":"#REF!"}},109.0263159051478,53.597395485921304]

{"sheet":"Final Graph","index":7,"n_rows":17,"n_cols":13,"rows_kept":17,"cut":false,"hidden":false,"merged":[[6,12,6,22],[6,10,7,10],[7,2,7,9],[3,1,3,4],[4,1,4,4]]}
[]
[null,"Consolidated Graph of All Groups : DBH(OB) v/s Age"]
[]
[null,"No of groups in the class",null,null,null,{"$f":"'Stump Analysis Data'!E6","v":11}]
[null,"No of decades covered",null,null,null,9]
[]
[null,"Group No.",1,2,3,4,5,6,7,8,"Avg",null,"Consolidated DBH(OB) v/s Age Graph"]
[null,"Age","DBH(OB)"]
[null,10,4.2531911882354372,-0.34463706280934137,-0.34254162490862194,1.3048585907582799,-11.855669773386776,-1.5935073253710552,0.8253879687722705,-7.465624594052084,{"$f":"SUBTOTAL(1, C9:J9)","v":-1.9023178290952363}]
[null,20,11.701641383547077,3.2220900594667778,3.2709836627341806,3.8879811074145341,4.6690876305704734,9.9661537240528268,5.7500961220162647,3.1847954036134105,5.7066036366769435]
[null,30,17.986362802450333,7.5350556158051099,6.8652549862026682,6.6909221499784088,17.332135707387707,18.966907332656465,9.7778218403090786,12.613662509885504,12.221015368084407]
[null,40,23.289062883525972,12.41516902468171,10.477400325038499,9.6912048840539988,26.857171803930846,25.834952666141309,13.102492032608019,20.900269146658655,17.820965345829872]
[null,50,27.791449065354762,17.683339704572649,14.144547658783335,12.866352475245394,33.967893267065804,30.996488890208834,15.918033607870409,28.123907735827313,22.686501550616061]
[null,60,31.675228786517465,23.160477073953977,17.903824966978835,16.193888089156694,39.387997443658492,34.877715170560506,18.418373475053556,34.36387069928594,26.997671963145685]
[null,70,35.122109485594855,28.667490551301768,21.792360229166665,19.651334891391976,43.841181680574849,37.904830672897788,20.797438543114772,39.699450458928979,30.93452456412146]
[null,80,38.313798601167697,34.025289555092066,25.847281424888479,23.216216047555356,48.051143324680723,40.504034562922129,23.249155721011377,44.209939436650913,34.677107334246095]
[null,90,41.43200357181675,39.054783503800955,30.105716533685939,26.866054723250905,52.741579722842118,43.101526006335021,25.967451917700682,47.974630054346164,38.405468254222313]